BEGIN:VCALENDAR
VERSION:2.0
PRODID:-//wp-events-plugin.com//7.2.3.1//EN
BEGIN:VEVENT
UID:0-226@info.stjudes.org.au
DTSTART;TZID=Australia/Melbourne:20250706T170000
DTEND;TZID=Australia/Melbourne:20250706T181500
DTSTAMP:20250617T081208Z
URL:https://info.stjudes.org.au/events/1-corinthians-qa/
SUMMARY:1 Corinthians Q&amp\;A
DESCRIPTION:Join us at 5pm on Sunday July 6 for a special 1 Corinthians Q&a
 mp\;A.
ATTACH;FMTTYPE=image/jpeg:https://info.stjudes.org.au/wp-content/uploads/s
 ites/2/2025/06/1-Corinthians-Podcast-Slide.png
CATEGORIES:Parkville 5
LOCATION:St Jude's Parkville\, 170 The Avenue\, Parkville\, 3052\, Australi
 a
X-APPLE-STRUCTURED-LOCATION;VALUE=URI;X-ADDRESS=170 The Avenue\, Parkville\
 , 3052\, Australia;X-APPLE-RADIUS=100;X-TITLE=St Jude's Parkville:geo:0,0
END:VEVENT
BEGIN:VTIMEZONE
TZID:Australia/Melbourne
X-LIC-LOCATION:Australia/Melbourne
BEGIN:STANDARD
DTSTART:20250406T020000
TZOFFSETFROM:+1100
TZOFFSETTO:+1000
TZNAME:AEST
END:STANDARD
END:VTIMEZONE
END:VCALENDAR