BEGIN:VCALENDAR
VERSION:2.0
PRODID:-//wp-events-plugin.com//7.2.3.1//EN
BEGIN:VEVENT
UID:0-157@info.stjudes.org.au
DTSTART;TZID=Australia/Melbourne:20241123T170000
DTEND;TZID=Australia/Melbourne:20241123T200000
DTSTAMP:20241119T041426Z
URL:https://info.stjudes.org.au/events/4pm-end-of-year-celebration/
SUMMARY:4pm End of Year Celebration
DESCRIPTION:Join us at Ridley College (170 The Avenue\, Parkville) for a ce
 lebratory BBQ\, board games and outdoor fun.\n\nBYO protein for the BBQ an
 d a salad\, dessert\, nibbles or drinks to share. It’d be great if you c
 an also bring any outdoor or indoor games.
CATEGORIES:Carlton 4
LOCATION:Ridley College\, 170 The Avenue\, Parkville\, VIC\, 3052\, Austral
 ia
X-APPLE-STRUCTURED-LOCATION;VALUE=URI;X-ADDRESS=170 The Avenue\, Parkville\
 , VIC\, 3052\, Australia;X-APPLE-RADIUS=100;X-TITLE=Ridley College:geo:0,0
END:VEVENT
BEGIN:VTIMEZONE
TZID:Australia/Melbourne
X-LIC-LOCATION:Australia/Melbourne
BEGIN:DAYLIGHT
DTSTART:20241006T030000
TZOFFSETFROM:+1000
TZOFFSETTO:+1100
TZNAME:AEDT
END:DAYLIGHT
END:VTIMEZONE
END:VCALENDAR