BEGIN:VCALENDAR
VERSION:2.0
PRODID:-//wp-events-plugin.com//7.2.3.1//EN
BEGIN:VEVENT
UID:0-40@info.stjudes.org.au
DTSTART;TZID=Australia/Melbourne:20240329T100000
DTEND;TZID=Australia/Melbourne:20240331T183000
DTSTAMP:20240229T064553Z
URL:https://info.stjudes.org.au/events/easter-services-at-parkville/
SUMMARY:Easter Services at Parkville
DESCRIPTION:Join us to celebrate Easter.\n\nGood Friday - 29th March\n10am 
 - Creative\, Reflective Service\nwith songs\, stories &amp\; live poetry\,
 \nfollowed by hot cross buns\n\nEaster Sunday - 31st March\n10am - Creativ
 e All Ages Service\nwith puppets &amp\; kids craft\,\nfollowed by easter e
 gg hunt\n\n5pm - Creative Service\nwith songs &amp\; stories\,\nfollowed b
 y dinner
ATTACH;FMTTYPE=image/jpeg:https://info.stjudes.org.au/wp-content/uploads/s
 ites/2/2024/02/Easter-slide-PV-scaled.jpg
CATEGORIES:Parkville 10,Parkville 5
LOCATION:St Jude's Parkville\, 170 The Avenue\, Parkville\, VIC\, 3052\, Au
 stralia
X-APPLE-STRUCTURED-LOCATION;VALUE=URI;X-ADDRESS=170 The Avenue\, Parkville\
 , VIC\, 3052\, Australia;X-APPLE-RADIUS=100;X-TITLE=St Jude's Parkville:ge
 o:0,0
END:VEVENT
BEGIN:VTIMEZONE
TZID:Australia/Melbourne
X-LIC-LOCATION:Australia/Melbourne
BEGIN:DAYLIGHT
DTSTART:20231001T030000
TZOFFSETFROM:+1000
TZOFFSETTO:+1100
TZNAME:AEDT
END:DAYLIGHT
END:VTIMEZONE
END:VCALENDAR