BEGIN:VCALENDAR
VERSION:2.0
PRODID:-//wp-events-plugin.com//7.2.3.1//EN
BEGIN:VEVENT
UID:0-243@info.stjudes.org.au
DTSTART;TZID=Australia/Melbourne:20260402T190000
DTEND;TZID=Australia/Melbourne:20260402T200000
DTSTAMP:20260305T040055Z
URL:https://info.stjudes.org.au/events/maundy-thursday/
SUMMARY:Maundy Thursday - Parkville
DESCRIPTION:Join us at Parkville for an interactive\, all-age inclusive pre
 sentation of the Last Supper through Passover symbols using food\, story a
 nd song. \n\nWe hope you'll leave with a deeper appreciation for the conne
 ction between the old and new covenants and enjoy sharing in this family c
 elebration.\n\nPlease note that this is not full a meal\, but Passover foo
 d elements will be shared.\n\nAll are welcome to attend. This is a free ev
 ent.\n\nBook a free ticket here: https://www.trybooking.com/events/landing
 /1547357
CATEGORIES:Parkville 10,Parkville 5,Parkville Kids
END:VEVENT
BEGIN:VTIMEZONE
TZID:Australia/Melbourne
X-LIC-LOCATION:Australia/Melbourne
BEGIN:DAYLIGHT
DTSTART:20251005T030000
TZOFFSETFROM:+1000
TZOFFSETTO:+1100
TZNAME:AEDT
END:DAYLIGHT
END:VTIMEZONE
END:VCALENDAR