BEGIN:VCALENDAR
VERSION:2.0
PRODID:-//wp-events-plugin.com//7.2.3.1//EN
BEGIN:VEVENT
UID:0-224@info.stjudes.org.au
DTSTART;TZID=Australia/Melbourne;VALUE=DATE:20250706
DTEND;TZID=Australia/Melbourne;VALUE=DATE:20250707
DTSTAMP:20250617T080418Z
URL:https://info.stjudes.org.au/events/welcome-stephen-may/
SUMMARY:Welcome\, Stephen May!
DESCRIPTION:Stephen May will be serving as locum of St Jude's in Parkville\
 , beginning July 6. Please welcome him warmly to our community!
ATTACH;FMTTYPE=image/jpeg:https://info.stjudes.org.au/wp-content/uploads/s
 ites/2/2024/05/ParkvilleLogo-Slide.jpg
CATEGORIES:Parkville 10,Parkville 5
END:VEVENT
BEGIN:VTIMEZONE
TZID:Australia/Melbourne
X-LIC-LOCATION:Australia/Melbourne
BEGIN:STANDARD
DTSTART:20250406T020000
TZOFFSETFROM:+1100
TZOFFSETTO:+1000
TZNAME:AEST
END:STANDARD
END:VTIMEZONE
END:VCALENDAR